BEGIN:VCALENDAR
VERSION:2.0
METHOD:PUBLISH
TZ:+00
BEGIN:VEVENT
DTSTART:20251022T180000Z
DTSTAMP:20260421T131128Z
DTEND:20251022T191500Z
LOCATION: Zoom
SUMMARY:The Science of Hearing From God
DESCRIPTION:How To Position Yourself to Receive EVERYTHING God Has for You… NOW!
BEGIN:VALARM
TRIGGER:-PT15M
ACTION:DISPLAY
DESCRIPTION:Reminder
END:VALARM
END:VEVENT
END:VCALENDAR