BEGIN:VCALENDAR
VERSION:2.0
METHOD:PUBLISH
TZ:+00
BEGIN:VEVENT
DTSTART:20260430T150000Z
DTSTAMP:20260421T091508Z
DTEND:20260430T220000Z
SUMMARY:Soul'd Day 1
DESCRIPTION:
BEGIN:VALARM
TRIGGER:-PT15M
ACTION:DISPLAY
DESCRIPTION:Reminder
END:VALARM
END:VEVENT
END:VCALENDAR