BEGIN:VCALENDAR
VERSION:2.0
METHOD:PUBLISH
TZ:+00
BEGIN:VEVENT
DTSTART:20260428T180000Z
DTSTAMP:20260421T083024Z
DTEND:20260428T190000Z
SUMMARY:Turn Your Inner Voice into Income
DESCRIPTION:
BEGIN:VALARM
TRIGGER:-PT15M
ACTION:DISPLAY
DESCRIPTION:Reminder
END:VALARM
END:VEVENT
END:VCALENDAR