BEGIN:VCALENDAR
VERSION:2.0
METHOD:PUBLISH
TZ:+00
BEGIN:VEVENT
DTSTART:20260427T190000Z
DTSTAMP:20260419T131406Z
DTEND:20260427T200000Z
SUMMARY:VIP-Exclusive: Authentic AI - How to Use AI & Marketing to Magnetize Clients
DESCRIPTION:
BEGIN:VALARM
TRIGGER:-PT15M
ACTION:DISPLAY
DESCRIPTION:Reminder
END:VALARM
END:VEVENT
END:VCALENDAR