BEGIN:VCALENDAR
VERSION:2.0
METHOD:PUBLISH
TZ:+00
BEGIN:VEVENT
DTSTART:20260502T150000Z
DTSTAMP:20260421T082902Z
DTEND:20260502T210000Z
SUMMARY:Soul'd Day 3
DESCRIPTION:
BEGIN:VALARM
TRIGGER:-PT15M
ACTION:DISPLAY
DESCRIPTION:Reminder
END:VALARM
END:VEVENT
END:VCALENDAR